BEGIN:VCALENDAR
VERSION:2.0
PRODID:-//Mid Cheshire Hospitals Charity - ECPv6.15.17.1//NONSGML v1.0//EN
CALSCALE:GREGORIAN
METHOD:PUBLISH
X-ORIGINAL-URL:https://mchcharity.org
X-WR-CALDESC:Events for Mid Cheshire Hospitals Charity
REFRESH-INTERVAL;VALUE=DURATION:PT1H
X-Robots-Tag:noindex
X-PUBLISHED-TTL:PT1H
BEGIN:VTIMEZONE
TZID:UTC
BEGIN:STANDARD
TZOFFSETFROM:+0000
TZOFFSETTO:+0000
TZNAME:UTC
DTSTART:20220101T000000
END:STANDARD
END:VTIMEZONE
BEGIN:VEVENT
DTSTART;VALUE=DATE:20250921
DTEND;VALUE=DATE:20250922
DTSTAMP:20260423T075650
CREATED:20230328T133841Z
LAST-MODIFIED:20250303T142538Z
UID:5410-1758412800-1758499199@mchcharity.org
SUMMARY:Warrington Running Festival 5K\, 10K and Half Marathon
DESCRIPTION:If you’re after a new physical challenge for you and your friends then look no further than Born Survivor! Make no mistake\, Born Survivor’s not your average mud run or obstacle fun day – this is the ultimate military obstacle course challenge! \nThe 30+ military grade obstacles\, event village\, live music\, bespoke SWAG and food and drink at The Stripes Bar deliver the most amazing experience to all Born Survivors! \nSet in the stunning surroundings of Capesthorne Hall using the natural terrain features up to 35 epic military training inspired obstacle challenges. Join thousands of participants in the starting cage and prepare to run\, climb\, haul\, leap\, slide and crawl as you stampede through the 6KM course. \nPlaces cost the charity much more than the price you pay so we ask that you aim to raise at least £200 with your place. All monies raised will help us to keep making a difference to patients and their loved ones in the moments that matter. \nCost includes a FREE bespoke charity t-shirt and fundraising pack. \nTo find out more and to reserve your place email mark.porter@mcht.nhs.uk  \n 
URL:https://mchcharity.org/event/warrington-running-festival-5k-10k-and-half-marathon/
LOCATION:Warrington Town Centre
CATEGORIES:Physical Challenge Event
ATTACH;FMTTYPE=image/png:https://mchcharity.org/wp-content/uploads/2023/03/warrington-running-festival.png
END:VEVENT
BEGIN:VEVENT
DTSTART;VALUE=DATE:20231111
DTEND;VALUE=DATE:20231113
DTSTAMP:20260423T075650
CREATED:20230328T132248Z
LAST-MODIFIED:20230403T140745Z
UID:5406-1699660800-1699833599@mchcharity.org
SUMMARY:Run Alton Towers
DESCRIPTION:If you’re after a new physical challenge for you and your friends then look no further than Born Survivor! Make no mistake\, Born Survivor’s not your average mud run or obstacle fun day – this is the ultimate military obstacle course challenge! \nThe 30+ military grade obstacles\, event village\, live music\, bespoke SWAG and food and drink at The Stripes Bar deliver the most amazing experience to all Born Survivors! \nSet in the stunning surroundings of Capesthorne Hall using the natural terrain features up to 35 epic military training inspired obstacle challenges. Join thousands of participants in the starting cage and prepare to run\, climb\, haul\, leap\, slide and crawl as you stampede through the 6KM course. \nPlaces cost the charity much more than the price you pay so we ask that you aim to raise at least £200 with your place. All monies raised will help us to keep making a difference to patients and their loved ones in the moments that matter. \nCost includes a FREE bespoke charity t-shirt and fundraising pack. \nTo find out more and to reserve your place email mark.porter@mcht.nhs.uk  \n 
URL:https://mchcharity.org/event/run-alton-towers/
LOCATION:Alton Towers\, Alton\, Stoke-on-Trent\, ST10 4DB
CATEGORIES:Physical Challenge Event
ATTACH;FMTTYPE=image/png:https://mchcharity.org/wp-content/uploads/2023/03/Run-Alton-Towers5.png
END:VEVENT
BEGIN:VEVENT
DTSTART;VALUE=DATE:20230805
DTEND;VALUE=DATE:20230806
DTSTAMP:20260423T075650
CREATED:20230328T125522Z
LAST-MODIFIED:20240523T103036Z
UID:5392-1691193600-1691279999@mchcharity.org
SUMMARY:Clay House Farm Inflatable Runs - 2.5K\, 5K\, 10k\, 15K
DESCRIPTION:If you’re after a new physical challenge for you and your friends then look no further than Born Survivor! Make no mistake\, Born Survivor’s not your average mud run or obstacle fun day – this is the ultimate military obstacle course challenge! \nThe 30+ military grade obstacles\, event village\, live music\, bespoke SWAG and food and drink at The Stripes Bar deliver the most amazing experience to all Born Survivors! \nSet in the stunning surroundings of Capesthorne Hall using the natural terrain features up to 35 epic military training inspired obstacle challenges. Join thousands of participants in the starting cage and prepare to run\, climb\, haul\, leap\, slide and crawl as you stampede through the 6KM course. \nPlaces cost the charity much more than the price you pay so we ask that you aim to raise at least £200 with your place. All monies raised will help us to keep making a difference to patients and their loved ones in the moments that matter. \nCost includes a FREE bespoke charity t-shirt and fundraising pack. \nTo find out more and to reserve your place email mark.porter@mcht.nhs.uk  \n 
URL:https://mchcharity.org/event/tatton-park-inflatable-runs-2-5k-5k-10k-15k/
LOCATION:Clay House Farm\, Flittogate Lane\, Tabley\, Knutsford\, Cheshire\, Knusford\, WA16 0HJ
CATEGORIES:Physical Challenge Event
ATTACH;FMTTYPE=image/jpeg:https://mchcharity.org/wp-content/uploads/2023/03/inflatable-5k.jpg
END:VEVENT
BEGIN:VEVENT
DTSTART;VALUE=DATE:20230415
DTEND;VALUE=DATE:20230416
DTSTAMP:20260423T075650
CREATED:20230328T131356Z
LAST-MODIFIED:20230404T111734Z
UID:5402-1681516800-1681603199@mchcharity.org
SUMMARY:Salford Quays Bungee Jump - Numerous dates throughout 2023
DESCRIPTION:If you’re after a new physical challenge for you and your friends then look no further than Born Survivor! Make no mistake\, Born Survivor’s not your average mud run or obstacle fun day – this is the ultimate military obstacle course challenge! \nThe 30+ military grade obstacles\, event village\, live music\, bespoke SWAG and food and drink at The Stripes Bar deliver the most amazing experience to all Born Survivors! \nSet in the stunning surroundings of Capesthorne Hall using the natural terrain features up to 35 epic military training inspired obstacle challenges. Join thousands of participants in the starting cage and prepare to run\, climb\, haul\, leap\, slide and crawl as you stampede through the 6KM course. \nPlaces cost the charity much more than the price you pay so we ask that you aim to raise at least £200 with your place. All monies raised will help us to keep making a difference to patients and their loved ones in the moments that matter. \nCost includes a FREE bespoke charity t-shirt and fundraising pack. \nTo find out more and to reserve your place email mark.porter@mcht.nhs.uk  \n 
URL:https://mchcharity.org/event/salford-keys-bungee-jump-numerous-dates-throughout-2023/
LOCATION:Salford Keys\, The Quays\, Salford\, M50 3SQ
CATEGORIES:Physical Challenge Event
ATTACH;FMTTYPE=image/jpeg:https://mchcharity.org/wp-content/uploads/2023/03/salford-bungee.jpg
END:VEVENT
END:VCALENDAR